BEGIN:VCALENDAR
VERSION:2.0
PRODID:-//Higgins Heritage Park - ECPv6.15.18//NONSGML v1.0//EN
CALSCALE:GREGORIAN
METHOD:PUBLISH
X-WR-CALNAME:Higgins Heritage Park
X-ORIGINAL-URL:https://www.higginsheritagepark.co.nz
X-WR-CALDESC:Events for Higgins Heritage Park
REFRESH-INTERVAL;VALUE=DURATION:PT1H
X-Robots-Tag:noindex
X-PUBLISHED-TTL:PT1H
BEGIN:VTIMEZONE
TZID:Pacific/Auckland
BEGIN:STANDARD
TZOFFSETFROM:+1300
TZOFFSETTO:+1200
TZNAME:NZST
DTSTART:20200404T140000
END:STANDARD
BEGIN:DAYLIGHT
TZOFFSETFROM:+1200
TZOFFSETTO:+1300
TZNAME:NZDT
DTSTART:20200926T140000
END:DAYLIGHT
BEGIN:STANDARD
TZOFFSETFROM:+1300
TZOFFSETTO:+1200
TZNAME:NZST
DTSTART:20210403T140000
END:STANDARD
BEGIN:DAYLIGHT
TZOFFSETFROM:+1200
TZOFFSETTO:+1300
TZNAME:NZDT
DTSTART:20210925T140000
END:DAYLIGHT
BEGIN:STANDARD
TZOFFSETFROM:+1300
TZOFFSETTO:+1200
TZNAME:NZST
DTSTART:20220402T140000
END:STANDARD
BEGIN:DAYLIGHT
TZOFFSETFROM:+1200
TZOFFSETTO:+1300
TZNAME:NZDT
DTSTART:20220924T140000
END:DAYLIGHT
END:VTIMEZONE
BEGIN:VEVENT
DTSTART;VALUE=DATE:20211002
DTEND;VALUE=DATE:20211004
DTSTAMP:20260421T204856
CREATED:20201202T212456Z
LAST-MODIFIED:20210906T221720Z
UID:10000253-1633132800-1633305599@www.higginsheritagepark.co.nz
SUMMARY:CANCELLED - Transport Fest - postponed until 2022
DESCRIPTION:Postponed until 2022.
URL:https://www.higginsheritagepark.co.nz/event/the-big-transport-vehicle-show/
LOCATION:Higgins Heritage Park\, 222 Pigeon Valley Road\, Wakefield\, Tasman\, 7025\, New Zealand
CATEGORIES:Historic Transport Show Day
GEO:-41.3896062;173.0291196
X-APPLE-STRUCTURED-LOCATION;VALUE=URI;X-ADDRESS=Higgins Heritage Park 222 Pigeon Valley Road Wakefield Tasman 7025 New Zealand;X-APPLE-RADIUS=500;X-TITLE=222 Pigeon Valley Road:geo:173.0291196,-41.3896062
END:VEVENT
BEGIN:VEVENT
DTSTART;TZID=Pacific/Auckland:20211017T100000
DTEND;TZID=Pacific/Auckland:20211017T150000
DTSTAMP:20260421T204856
CREATED:20210622T072247Z
LAST-MODIFIED:20210622T072247Z
UID:10000258-1634464800-1634482800@www.higginsheritagepark.co.nz
SUMMARY:Museum sheds open\, model railways & bush rail jigger rides operating
DESCRIPTION:
URL:https://www.higginsheritagepark.co.nz/event/museum-sheds-open-model-railways-bush-rail-jigger-rides-operating-4/
LOCATION:Higgins Heritage Park\, 222 Pigeon Valley Road\, Wakefield\, Tasman\, 7025\, New Zealand
CATEGORIES:Members Shed,On Steam
GEO:-41.3896062;173.0291196
X-APPLE-STRUCTURED-LOCATION;VALUE=URI;X-ADDRESS=Higgins Heritage Park 222 Pigeon Valley Road Wakefield Tasman 7025 New Zealand;X-APPLE-RADIUS=500;X-TITLE=222 Pigeon Valley Road:geo:173.0291196,-41.3896062
END:VEVENT
END:VCALENDAR