BEGIN:VCALENDAR
VERSION:2.0
PRODID:-//Higgins Heritage Park - ECPv6.15.18//NONSGML v1.0//EN
CALSCALE:GREGORIAN
METHOD:PUBLISH
X-WR-CALNAME:Higgins Heritage Park
X-ORIGINAL-URL:https://www.higginsheritagepark.co.nz
X-WR-CALDESC:Events for Higgins Heritage Park
REFRESH-INTERVAL;VALUE=DURATION:PT1H
X-Robots-Tag:noindex
X-PUBLISHED-TTL:PT1H
BEGIN:VTIMEZONE
TZID:Pacific/Auckland
BEGIN:STANDARD
TZOFFSETFROM:+1300
TZOFFSETTO:+1200
TZNAME:NZST
DTSTART:20250405T140000
END:STANDARD
BEGIN:DAYLIGHT
TZOFFSETFROM:+1200
TZOFFSETTO:+1300
TZNAME:NZDT
DTSTART:20250927T140000
END:DAYLIGHT
BEGIN:STANDARD
TZOFFSETFROM:+1300
TZOFFSETTO:+1200
TZNAME:NZST
DTSTART:20260404T140000
END:STANDARD
BEGIN:DAYLIGHT
TZOFFSETFROM:+1200
TZOFFSETTO:+1300
TZNAME:NZDT
DTSTART:20260926T140000
END:DAYLIGHT
BEGIN:STANDARD
TZOFFSETFROM:+1300
TZOFFSETTO:+1200
TZNAME:NZST
DTSTART:20270403T140000
END:STANDARD
BEGIN:DAYLIGHT
TZOFFSETFROM:+1200
TZOFFSETTO:+1300
TZNAME:NZDT
DTSTART:20270925T140000
END:DAYLIGHT
END:VTIMEZONE
BEGIN:VEVENT
DTSTART;TZID=Pacific/Auckland:20260104T090000
DTEND;TZID=Pacific/Auckland:20260104T150000
DTSTAMP:20260421T014926
CREATED:20251024T222954Z
LAST-MODIFIED:20251024T224911Z
UID:10000333-1767517200-1767538800@www.higginsheritagepark.co.nz
SUMMARY:Steam up & Craft Fair
DESCRIPTION:
URL:https://www.higginsheritagepark.co.nz/event/steam-up-craft-fair/
END:VEVENT
END:VCALENDAR